BEGIN:VCALENDAR
VERSION:2.0
PRODID:-//Baraboo Young Professionals - ECPv6.15.20//NONSGML v1.0//EN
CALSCALE:GREGORIAN
METHOD:PUBLISH
X-ORIGINAL-URL:https://barabooyoungprofessionals.com
X-WR-CALDESC:Events for Baraboo Young Professionals
REFRESH-INTERVAL;VALUE=DURATION:PT1H
X-Robots-Tag:noindex
X-PUBLISHED-TTL:PT1H
BEGIN:VTIMEZONE
TZID:America/Chicago
BEGIN:DAYLIGHT
TZOFFSETFROM:-0600
TZOFFSETTO:-0500
TZNAME:CDT
DTSTART:20240310T080000
END:DAYLIGHT
BEGIN:STANDARD
TZOFFSETFROM:-0500
TZOFFSETTO:-0600
TZNAME:CST
DTSTART:20241103T070000
END:STANDARD
BEGIN:DAYLIGHT
TZOFFSETFROM:-0600
TZOFFSETTO:-0500
TZNAME:CDT
DTSTART:20250309T080000
END:DAYLIGHT
BEGIN:STANDARD
TZOFFSETFROM:-0500
TZOFFSETTO:-0600
TZNAME:CST
DTSTART:20251102T070000
END:STANDARD
BEGIN:DAYLIGHT
TZOFFSETFROM:-0600
TZOFFSETTO:-0500
TZNAME:CDT
DTSTART:20260308T080000
END:DAYLIGHT
BEGIN:STANDARD
TZOFFSETFROM:-0500
TZOFFSETTO:-0600
TZNAME:CST
DTSTART:20261101T070000
END:STANDARD
END:VTIMEZONE
BEGIN:VTIMEZONE
TZID:UTC
BEGIN:STANDARD
TZOFFSETFROM:+0000
TZOFFSETTO:+0000
TZNAME:UTC
DTSTART:20240101T000000
END:STANDARD
END:VTIMEZONE
BEGIN:VEVENT
DTSTART;TZID=America/Chicago:20250919T170000
DTEND;TZID=America/Chicago:20250919T210000
DTSTAMP:20260419T155532
CREATED:20250125T022250Z
LAST-MODIFIED:20250328T235136Z
UID:1391-1758301200-1758315600@barabooyoungprofessionals.com
SUMMARY:BYP Night Market
DESCRIPTION:The Baraboo Night Market is a one of a kind night market featuring music\, food trucks\, local beer\, and vendors all under the twinkling lights in Downtown Baraboo. Hosted by Baraboo Young Professionals. \nJoin us in downtown Baraboo on Friday\, September 19th\, from 5-9pm for music\, shopping some great local vendors\, sipping\, and eating. \nFamily-friendly event. No fee to enter. Must have ID to consume alcohol. Many vendors will take cards but come ready with cash. No pets allowed in event grounds. Event is subject to all necessary permit approvals through the City of Baraboo.
URL:https://barabooyoungprofessionals.com/event/byp-night-market/
LOCATION:Downtown Baraboo\, 553 Oak St\, Baraboo\, WI\, 53913\, United States
CATEGORIES:BYP Sponsered Event
ATTACH;FMTTYPE=image/jpeg:https://barabooyoungprofessionals.com/wp-content/uploads/2025/03/482769688_958660036468285_7990484283389540524_n.jpg
END:VEVENT
BEGIN:VEVENT
DTSTART;TZID=America/Chicago:20250815T190000
DTEND;TZID=America/Chicago:20250815T223000
DTSTAMP:20260419T155532
CREATED:20250312T224343Z
LAST-MODIFIED:20250725T190536Z
UID:1814-1755284400-1755297000@barabooyoungprofessionals.com
SUMMARY:BYP Sips and Swings
DESCRIPTION:The area’s only golf outing of its kind is back! Nighttime glow-in-the-dark golf with a beer and wine walk for this can’t-miss event! \nThe area’s only golf outing of its kind is back! We’ve combined nighttime glow-in-the-dark golf with a beer and wine walk for this can’t-miss event. \nJoin the Baraboo Young Professionals at Fairfield Hills Golf Course in Baraboo\, Wisconsin\, for a one-of-a-kind golf outing on Friday\, August 15th! \nShotgun start is at 6pm\, ensuring golfers play a few holes while it’s still light out before breaking out the LED balls once the sun starts to go down. Each hole also has tastings of a featured beer or wine. \nRegistration of $80 per person includes 12 holes of golf (four person scramble format)\, three LED balls\, beer and wine tastings\, food\, and the 13th Hole Post-Party. \nAfter the golfing concludes the after party begins! Food\, music and FUN! \nTickets Required to reserve your spot. Purchase your tickets here. \nPlease note\, this is a walking outing for safety reasons. Golf at night and driving carts around don’t mix. All golfers must be 21+. Tickets are nonrefundable. Rain date is scheduled for August 22nd.
URL:https://barabooyoungprofessionals.com/event/byp-sips-and-swings/
LOCATION:Fairfield Hills Golf Course & Range\, S3308 Fox Hill Rd\, Baraboo\, WI\, 53913\, United States
CATEGORIES:BYP Sponsered Event
ATTACH;FMTTYPE=image/jpeg:https://barabooyoungprofessionals.com/wp-content/uploads/2025/03/482812007_1071928588076413_6661233986435652848_n.jpg
END:VEVENT
BEGIN:VEVENT
DTSTART;TZID=America/Chicago:20250523T170000
DTEND;TZID=America/Chicago:20250523T220000
DTSTAMP:20260419T155532
CREATED:20250125T022239Z
LAST-MODIFIED:20250429T155009Z
UID:1389-1748019600-1748037600@barabooyoungprofessionals.com
SUMMARY:BYP Food Truck Rally
DESCRIPTION:Join the Baraboo Young Professionals for the 4th annual Food Truck Rally Summer Kick Off. \nLive Music\, Beer tent and food vendors galore await us at the Sauk County Fairgrounds for this one of a kind event.\nMust be 21+ to be inside the beer tent\, or if under 21 you MUST be with a parent/guardian. You are welcome to bring your own chairs\, but NO carry-in food or beverages of any kind allowed. There is no cover charge! \nAnyone under the age of 21 must leave the beer tent no later than 9:00PM.
URL:https://barabooyoungprofessionals.com/event/byp-food-truck-rally/
LOCATION:Sauk County Fairgrounds\, 700 Washington Ave\, Baraboo\, WI\, 53913\, United States
CATEGORIES:BYP Sponsered Event
ATTACH;FMTTYPE=image/jpeg:https://barabooyoungprofessionals.com/wp-content/uploads/2025/03/482791811_980292533734622_6288884577345604431_n.jpg
END:VEVENT
BEGIN:VEVENT
DTSTART;TZID=America/Chicago:20250426T120000
DTEND;TZID=America/Chicago:20250426T180000
DTSTAMP:20260419T155532
CREATED:20250312T224343Z
LAST-MODIFIED:20250329T003922Z
UID:1812-1745668800-1745690400@barabooyoungprofessionals.com
SUMMARY:BYP Putt Putt Pub Crawl
DESCRIPTION:Join the Baraboo Young Professionals for the only event of its kind in our area – the 5th Annual Putt Putt Pub Crawl! Downtown Baraboo establishments will have a creative mini golf hole for foursomes to play.Start your round with a pre-crawl drink at Brothers on Oak\, our registration and pick up site from 10:30AM-12:30PM. \nThen hit the links at your leisure\, as long as all holes are completed between noon-5:00PM. Each foursome is $80\, and includes your round of mini-golf\, entries into prize drawings\, drink specials that the businesses are offering\, access to the after party\, and more! Enter as individuals\, or get sponsored by a local business – plus extra prize entries for team costumes to win door prizes! Putters and balls provided\, must be 21+ to participate. \nThe 19th Hole afterparty will be hosted by GEM City Saloon and will feature food and drink specials. \nProceeds Go To: Baraboo Wrestling Program in Memory of Josh Haney\nEmail: barabooyoungprofessionals@gmail.com\nTickets are nonrefundable. \nPurchase Tickets Here.
URL:https://barabooyoungprofessionals.com/event/byp-putt-putt-pub-crawl/
LOCATION:Brother’s On Oak\, 412 Oak St\, Baraboo\, WI\, 53913\, United States
CATEGORIES:BYP Sponsered Event
ATTACH;FMTTYPE=image/jpeg:https://barabooyoungprofessionals.com/wp-content/uploads/2025/03/483101889_1045500847613418_6214354527941891732_n.jpg
END:VEVENT
BEGIN:VEVENT
DTSTART;TZID=UTC:20250201T110000
DTEND;TZID=UTC:20250201T140000
DTSTAMP:20260419T155532
CREATED:20250125T035758Z
LAST-MODIFIED:20250312T230712Z
UID:1468-1738407600-1738418400@barabooyoungprofessionals.com
SUMMARY:Coco Crawl
DESCRIPTION:BYP will have a Sponsored Stop at the 2025 Baraboo Coco Crawl at Neat-O’s Bake Shoppe.
URL:https://barabooyoungprofessionals.com/event/coco-crawl/
LOCATION:Neat-O’s Bake Shoppe\, 420 Oak St\, Baraboo\, WI\, 53913\, United States
CATEGORIES:BYP Sponsered Event
ATTACH;FMTTYPE=image/jpeg:https://barabooyoungprofessionals.com/wp-content/uploads/2025/01/472372779_1015987363903411_1588714347894456297_n.jpg
END:VEVENT
END:VCALENDAR