BEGIN:VCALENDAR
VERSION:2.0
PRODID:-//Baraboo Young Professionals - ECPv6.15.20//NONSGML v1.0//EN
CALSCALE:GREGORIAN
METHOD:PUBLISH
X-ORIGINAL-URL:https://barabooyoungprofessionals.com
X-WR-CALDESC:Events for Baraboo Young Professionals
REFRESH-INTERVAL;VALUE=DURATION:PT1H
X-Robots-Tag:noindex
X-PUBLISHED-TTL:PT1H
BEGIN:VTIMEZONE
TZID:America/Chicago
BEGIN:DAYLIGHT
TZOFFSETFROM:-0600
TZOFFSETTO:-0500
TZNAME:CDT
DTSTART:20250309T080000
END:DAYLIGHT
BEGIN:STANDARD
TZOFFSETFROM:-0500
TZOFFSETTO:-0600
TZNAME:CST
DTSTART:20251102T070000
END:STANDARD
BEGIN:DAYLIGHT
TZOFFSETFROM:-0600
TZOFFSETTO:-0500
TZNAME:CDT
DTSTART:20260308T080000
END:DAYLIGHT
BEGIN:STANDARD
TZOFFSETFROM:-0500
TZOFFSETTO:-0600
TZNAME:CST
DTSTART:20261101T070000
END:STANDARD
BEGIN:DAYLIGHT
TZOFFSETFROM:-0600
TZOFFSETTO:-0500
TZNAME:CDT
DTSTART:20270314T080000
END:DAYLIGHT
BEGIN:STANDARD
TZOFFSETFROM:-0500
TZOFFSETTO:-0600
TZNAME:CST
DTSTART:20271107T070000
END:STANDARD
END:VTIMEZONE
BEGIN:VEVENT
DTSTART;TZID=America/Chicago:20260918T170000
DTEND;TZID=America/Chicago:20260918T210000
DTSTAMP:20260419T215906
CREATED:20260201T195511Z
LAST-MODIFIED:20260226T182405Z
UID:2132-1789750800-1789765200@barabooyoungprofessionals.com
SUMMARY:BYP Night Market
DESCRIPTION:The Baraboo Night Market is a one of a kind night market featuring music\, food trucks\, local beer\, and vendors all under the twinkling lights in Downtown Baraboo. Hosted by Baraboo Young Professionals. \nJoin us in downtown Baraboo on Friday\, September 18th\, from 5-9pm for music\, shopping some great local vendors\, sipping\, and eating. \nFamily-friendly event. No fee to enter. Must have ID to consume alcohol. Many vendors will take cards but come ready with cash. No pets allowed in event grounds. Event is subject to all necessary permit approvals through the City of Baraboo.
URL:https://barabooyoungprofessionals.com/event/byp-night-market-2/
LOCATION:Downtown Baraboo\, 553 Oak St\, Baraboo\, WI\, 53913\, United States
CATEGORIES:BYP Sponsered Event
ATTACH;FMTTYPE=image/png:https://barabooyoungprofessionals.com/wp-content/uploads/2026/02/3.png
END:VEVENT
END:VCALENDAR