BEGIN:VCALENDAR
VERSION:2.0
PRODID:-//Baraboo Young Professionals - ECPv6.15.20//NONSGML v1.0//EN
CALSCALE:GREGORIAN
METHOD:PUBLISH
X-WR-CALNAME:Baraboo Young Professionals
X-ORIGINAL-URL:https://barabooyoungprofessionals.com
X-WR-CALDESC:Events for Baraboo Young Professionals
REFRESH-INTERVAL;VALUE=DURATION:PT1H
X-Robots-Tag:noindex
X-PUBLISHED-TTL:PT1H
BEGIN:VTIMEZONE
TZID:America/Chicago
BEGIN:DAYLIGHT
TZOFFSETFROM:-0600
TZOFFSETTO:-0500
TZNAME:CDT
DTSTART:20250309T080000
END:DAYLIGHT
BEGIN:STANDARD
TZOFFSETFROM:-0500
TZOFFSETTO:-0600
TZNAME:CST
DTSTART:20251102T070000
END:STANDARD
BEGIN:DAYLIGHT
TZOFFSETFROM:-0600
TZOFFSETTO:-0500
TZNAME:CDT
DTSTART:20260308T080000
END:DAYLIGHT
BEGIN:STANDARD
TZOFFSETFROM:-0500
TZOFFSETTO:-0600
TZNAME:CST
DTSTART:20261101T070000
END:STANDARD
BEGIN:DAYLIGHT
TZOFFSETFROM:-0600
TZOFFSETTO:-0500
TZNAME:CDT
DTSTART:20270314T080000
END:DAYLIGHT
BEGIN:STANDARD
TZOFFSETFROM:-0500
TZOFFSETTO:-0600
TZNAME:CST
DTSTART:20271107T070000
END:STANDARD
END:VTIMEZONE
BEGIN:VEVENT
DTSTART;TZID=America/Chicago:20260814T180000
DTEND;TZID=America/Chicago:20260814T223000
DTSTAMP:20260419T202706
CREATED:20260201T195509Z
LAST-MODIFIED:20260226T182822Z
UID:2131-1786730400-1786746600@barabooyoungprofessionals.com
SUMMARY:BYP Sips and Swings
DESCRIPTION:The area’s only golf outing of its kind is back! Nighttime glow-in-the-dark golf with a beer and wine walk for this can’t-miss event! \nThe area’s only golf outing of its kind is back! We’ve combined nighttime glow-in-the-dark golf with a beer and wine walk for this can’t-miss event. \nJoin the Baraboo Young Professionals at Fairfield Hills Golf Course in Baraboo\, Wisconsin\, for a one-of-a-kind golf outing on Friday\, August 14th! \nShotgun start is at 6pm\, ensuring golfers play a few holes while it’s still light out before breaking out the LED balls once the sun starts to go down. Each hole also has tastings of a featured beer or wine. \nRegistration of $80 per person includes 12 holes of golf (four person scramble format)\, three LED balls\, beer and wine tastings\, food\, and the 13th Hole Post-Party. \nAfter the golfing concludes the after party begins! Food\, music and FUN! \nTickets Required to reserve your spot. \nPlease note\, this is a walking outing for safety reasons. Golf at night and driving carts around don’t mix. All golfers must be 21+. Tickets are nonrefundable. Rain date is scheduled for August 22nd.
URL:https://barabooyoungprofessionals.com/event/byp-sips-and-swings-2/
LOCATION:Fairfield Hills Golf Course & Range\, S3308 Fox Hill Rd\, Baraboo\, WI\, 53913\, United States
CATEGORIES:BYP Sponsered Event
ATTACH;FMTTYPE=image/png:https://barabooyoungprofessionals.com/wp-content/uploads/2026/02/2.png
END:VEVENT
END:VCALENDAR