BEGIN:VCALENDAR
VERSION:2.0
PRODID:-//Baraboo Young Professionals - ECPv6.15.20//NONSGML v1.0//EN
CALSCALE:GREGORIAN
METHOD:PUBLISH
X-WR-CALNAME:Baraboo Young Professionals
X-ORIGINAL-URL:https://barabooyoungprofessionals.com
X-WR-CALDESC:Events for Baraboo Young Professionals
REFRESH-INTERVAL;VALUE=DURATION:PT1H
X-Robots-Tag:noindex
X-PUBLISHED-TTL:PT1H
BEGIN:VTIMEZONE
TZID:America/Chicago
BEGIN:DAYLIGHT
TZOFFSETFROM:-0600
TZOFFSETTO:-0500
TZNAME:CDT
DTSTART:20250309T080000
END:DAYLIGHT
BEGIN:STANDARD
TZOFFSETFROM:-0500
TZOFFSETTO:-0600
TZNAME:CST
DTSTART:20251102T070000
END:STANDARD
BEGIN:DAYLIGHT
TZOFFSETFROM:-0600
TZOFFSETTO:-0500
TZNAME:CDT
DTSTART:20260308T080000
END:DAYLIGHT
BEGIN:STANDARD
TZOFFSETFROM:-0500
TZOFFSETTO:-0600
TZNAME:CST
DTSTART:20261101T070000
END:STANDARD
BEGIN:DAYLIGHT
TZOFFSETFROM:-0600
TZOFFSETTO:-0500
TZNAME:CDT
DTSTART:20270314T080000
END:DAYLIGHT
BEGIN:STANDARD
TZOFFSETFROM:-0500
TZOFFSETTO:-0600
TZNAME:CST
DTSTART:20271107T070000
END:STANDARD
END:VTIMEZONE
BEGIN:VEVENT
DTSTART;TZID=America/Chicago:20260522T170000
DTEND;TZID=America/Chicago:20260522T210000
DTSTAMP:20260419T172228
CREATED:20260201T195507Z
LAST-MODIFIED:20260226T182936Z
UID:2130-1779469200-1779483600@barabooyoungprofessionals.com
SUMMARY:BYP Food Truck Rally
DESCRIPTION:Join the Baraboo Young Professionals for the 5th annual Food Truck Rally Summer Kick Off. \nLive Music\, Beer tent and food vendors galore await us at the Sauk County Fairgrounds for this one of a kind event.\nMust be 21+ to be inside the beer tent\, or if under 21 you MUST be with a parent/guardian. You are welcome to bring your own chairs\, but NO carry-in food or beverages of any kind allowed. There is no cover charge! \nAnyone under the age of 21 must leave the beer tent no later than 9:00PM.
URL:https://barabooyoungprofessionals.com/event/byp-food-truck-rally-2/
LOCATION:Sauk County Fairgrounds\, 700 Washington Ave\, Baraboo\, WI\, 53913\, United States
CATEGORIES:BYP Sponsered Event
ATTACH;FMTTYPE=image/png:https://barabooyoungprofessionals.com/wp-content/uploads/2026/02/Event-Heros.png
END:VEVENT
END:VCALENDAR