BEGIN:VCALENDAR
VERSION:2.0
PRODID:-//Baraboo Young Professionals - ECPv6.15.20//NONSGML v1.0//EN
CALSCALE:GREGORIAN
METHOD:PUBLISH
X-WR-CALNAME:Baraboo Young Professionals
X-ORIGINAL-URL:https://barabooyoungprofessionals.com
X-WR-CALDESC:Events for Baraboo Young Professionals
REFRESH-INTERVAL;VALUE=DURATION:PT1H
X-Robots-Tag:noindex
X-PUBLISHED-TTL:PT1H
BEGIN:VTIMEZONE
TZID:America/Chicago
BEGIN:DAYLIGHT
TZOFFSETFROM:-0600
TZOFFSETTO:-0500
TZNAME:CDT
DTSTART:20250309T080000
END:DAYLIGHT
BEGIN:STANDARD
TZOFFSETFROM:-0500
TZOFFSETTO:-0600
TZNAME:CST
DTSTART:20251102T070000
END:STANDARD
BEGIN:DAYLIGHT
TZOFFSETFROM:-0600
TZOFFSETTO:-0500
TZNAME:CDT
DTSTART:20260308T080000
END:DAYLIGHT
BEGIN:STANDARD
TZOFFSETFROM:-0500
TZOFFSETTO:-0600
TZNAME:CST
DTSTART:20261101T070000
END:STANDARD
BEGIN:DAYLIGHT
TZOFFSETFROM:-0600
TZOFFSETTO:-0500
TZNAME:CDT
DTSTART:20270314T080000
END:DAYLIGHT
BEGIN:STANDARD
TZOFFSETFROM:-0500
TZOFFSETTO:-0600
TZNAME:CST
DTSTART:20271107T070000
END:STANDARD
END:VTIMEZONE
BEGIN:VEVENT
DTSTART;TZID=America/Chicago:20260106T180000
DTEND;TZID=America/Chicago:20260106T200000
DTSTAMP:20260420T030133
CREATED:20250125T022239Z
LAST-MODIFIED:20251204T215609Z
UID:1388-1767722400-1767729600@barabooyoungprofessionals.com
SUMMARY:BYP Holiday Party
DESCRIPTION:Join us at Gina Jenny’s on January 6th from 6 PM to 8 PM for a night excitement! We’re toasting to an amazing 2025 and spilling the tea on what’s coming in 2026. 🎉✨ \nSip on a complimentary drink (thanks to BYP 🍸) and indulge in mouthwatering appitizers. It’s the perfect recipe for a night full of laughter & good vibes 😉 Don’t miss out—come raise a glass with us 🍾🥂 \nPlease RSVP by January 5th.\nRSVP Here! \n* Note: This Party is for paid members\, future 2026 paid members\, event sponsors\, event hosts\, and donation recipients.
URL:https://barabooyoungprofessionals.com/event/byp-decemeber-monthly-meeting/
LOCATION:Gina Jenny’s Wine and Full Bar\, 126 3rd St.\, Baraboo\, WI\, 53913
CATEGORIES:BYP Monthly Meeting
ATTACH;FMTTYPE=image/png:https://barabooyoungprofessionals.com/wp-content/uploads/2025/01/BYP-MEETING-HEROS.png
END:VEVENT
BEGIN:VEVENT
DTSTART;TZID=America/Chicago:20260218T173000
DTEND;TZID=America/Chicago:20260218T183000
DTSTAMP:20260420T030133
CREATED:20251119T224202Z
LAST-MODIFIED:20260202T205332Z
UID:2049-1771435800-1771439400@barabooyoungprofessionals.com
SUMMARY:BYP February Monthly Meeting
DESCRIPTION:Join Baraboo Young Professionals for our February Monthly Meeting on Wednesday\, February 18 at Wiscocktail! \nThis month\, we’re excited to spotlight Wiscocktail and learn more about their business. Enjoy a hands-on cocktail and mocktail demonstration\, where you’ll learn tips\, techniques\, and creative ideas you can try at home. \nWhether you’re looking to network\, learn something new\, or just enjoy a fun evening with fellow young professionals\, this meeting is for you! \nDate: February 18\, 2026\nTime: 5:30 PM to 6:30 PM\nLocation: Wiscocktail\nAddress: 132 3rd St\, Baraboo\, WI 53913 \nBaraboo Young Professionals meets every third Wednesday of the month. Be sure to check our Facebook page or website for meeting locations and updates!
URL:https://barabooyoungprofessionals.com/event/byp-february-monthly-meeting-2/
LOCATION:Wiscocktail\, 132 3rd Street\, Baraboo\, WI\, 53913\, United States
CATEGORIES:BYP Monthly Meeting
ATTACH;FMTTYPE=image/png:https://barabooyoungprofessionals.com/wp-content/uploads/2025/11/BYP-MEETING-HEROS-1.png
END:VEVENT
BEGIN:VEVENT
DTSTART;TZID=America/Chicago:20260318T173000
DTEND;TZID=America/Chicago:20260318T183000
DTSTAMP:20260420T030133
CREATED:20251119T224202Z
LAST-MODIFIED:20260219T200920Z
UID:2050-1773855000-1773858600@barabooyoungprofessionals.com
SUMMARY:BYP March Monthly Meeting
DESCRIPTION:Join Baraboo Young Professionals (BYP) for a fun and interactive evening at Fairfield Hills Golf Course as we take on their golf simulators! \nWhether you’re a seasoned golfer or have never picked up a club\, this event is all about networking\, trying something new\, and having a great time with fellow young professionals in a relaxed setting. No experience required! Just bring your competitive spirit (or come just for the laughs 😉). \n📅 Date: March 18\, 2026\n⏰ Time: 5:30 PM – 6:30 PM\n📍 Location: Fairfield Hills Golf Course \n👉 Baraboo Young Professionals meets every third Wednesday of the month. Be sure to check our Facebook page or website for meeting locations and updates!
URL:https://barabooyoungprofessionals.com/event/byp-march-monthly-meeting-2/
LOCATION:Fairfield Hills Golf Course & Range\, S3308 Fox Hill Rd\, Baraboo\, WI\, 53913\, United States
CATEGORIES:BYP Monthly Meeting
ATTACH;FMTTYPE=image/png:https://barabooyoungprofessionals.com/wp-content/uploads/2025/11/4-1.png
END:VEVENT
BEGIN:VEVENT
DTSTART;TZID=America/Chicago:20260415T173000
DTEND;TZID=America/Chicago:20260415T183000
DTSTAMP:20260420T030133
CREATED:20251119T224203Z
LAST-MODIFIED:20260414T125550Z
UID:2051-1776274200-1776277800@barabooyoungprofessionals.com
SUMMARY:BYP April Monthly Meeting
DESCRIPTION:Join Baraboo Young Professionals (BYP) for a unique and flavorful evening at Emma’s Mexican Market!\nDuring this event\, we’ll get an inside look at this authentic local delicacy and learning more about their restaurant\, market\, and the story behind their delicious offerings right here in Baraboo. Plus\, attendees will have the opportunity to sample some of their dishes and experience the flavors firsthand!\n Date: April 15\, 2026 Time: 5:30 PM – 6:30 PM Location: Emma’s Mexican Market 507 South Blvd.\, Baraboo\, WI\nThis is a great opportunity to support a local business\, connect with other young professionals\, and enjoy a fun and engaging cultural experience. Come hungry and ready to learn!\n Baraboo Young Professionals meets every third Wednesday of the month. Be sure to check our Facebook page or website for meeting locations and updates!
URL:https://barabooyoungprofessionals.com/event/byp-april-monthly-meeting-2/
LOCATION:Emma’s Mexican Market\, 507 South Blvd\, Baraboo\, WI\, 53913\, United States
CATEGORIES:BYP Monthly Meeting
ATTACH;FMTTYPE=image/jpeg:https://barabooyoungprofessionals.com/wp-content/uploads/2025/11/660749414_1355709809925852_3084440900768384412_n.jpg
END:VEVENT
BEGIN:VEVENT
DTSTART;TZID=America/Chicago:20260520T173000
DTEND;TZID=America/Chicago:20260520T183000
DTSTAMP:20260420T030133
CREATED:20251119T224203Z
LAST-MODIFIED:20251119T224554Z
UID:2052-1779298200-1779301800@barabooyoungprofessionals.com
SUMMARY:BYP May Monthly Meeting
DESCRIPTION:To Be Determined
URL:https://barabooyoungprofessionals.com/event/byp-may-monthly-meeting-2/
LOCATION:To Be Determined
CATEGORIES:BYP Monthly Meeting
ATTACH;FMTTYPE=image/png:https://barabooyoungprofessionals.com/wp-content/uploads/2025/11/7.png
END:VEVENT
BEGIN:VEVENT
DTSTART;TZID=America/Chicago:20260617T173000
DTEND;TZID=America/Chicago:20260617T183000
DTSTAMP:20260420T030133
CREATED:20251119T224203Z
LAST-MODIFIED:20251119T224620Z
UID:2053-1781717400-1781721000@barabooyoungprofessionals.com
SUMMARY:BYP June Monthly Meeting
DESCRIPTION:To Be Determined
URL:https://barabooyoungprofessionals.com/event/byp-june-monthly-meeting-2/
LOCATION:To Be Determined
CATEGORIES:BYP Monthly Meeting
ATTACH;FMTTYPE=image/png:https://barabooyoungprofessionals.com/wp-content/uploads/2025/11/8.png
END:VEVENT
BEGIN:VEVENT
DTSTART;TZID=America/Chicago:20260715T173000
DTEND;TZID=America/Chicago:20260715T183000
DTSTAMP:20260420T030133
CREATED:20251119T224208Z
LAST-MODIFIED:20251119T224701Z
UID:2054-1784136600-1784140200@barabooyoungprofessionals.com
SUMMARY:BYP July Monthly Meeting
DESCRIPTION:To Be Determined
URL:https://barabooyoungprofessionals.com/event/byp-july-monthly-meeting-2/
LOCATION:To Be Determined
CATEGORIES:BYP Monthly Meeting
ATTACH;FMTTYPE=image/png:https://barabooyoungprofessionals.com/wp-content/uploads/2025/11/9.png
END:VEVENT
BEGIN:VEVENT
DTSTART;TZID=America/Chicago:20260819T173000
DTEND;TZID=America/Chicago:20260819T183000
DTSTAMP:20260420T030133
CREATED:20251119T224208Z
LAST-MODIFIED:20251119T224730Z
UID:2055-1787160600-1787164200@barabooyoungprofessionals.com
SUMMARY:BYP August Monthly Meeting
DESCRIPTION:To Be Determined
URL:https://barabooyoungprofessionals.com/event/byp-august-monthly-meeting-2/
LOCATION:To Be Determined
CATEGORIES:BYP Monthly Meeting
ATTACH;FMTTYPE=image/png:https://barabooyoungprofessionals.com/wp-content/uploads/2025/11/10.png
END:VEVENT
BEGIN:VEVENT
DTSTART;TZID=America/Chicago:20260916T173000
DTEND;TZID=America/Chicago:20260916T183000
DTSTAMP:20260420T030133
CREATED:20251119T224208Z
LAST-MODIFIED:20251119T224758Z
UID:2056-1789579800-1789583400@barabooyoungprofessionals.com
SUMMARY:BYP September Monthly Meeting
DESCRIPTION:To Be Determined
URL:https://barabooyoungprofessionals.com/event/byp-september-monthly-meeting-2/
LOCATION:To Be Determined
CATEGORIES:BYP Monthly Meeting
ATTACH;FMTTYPE=image/png:https://barabooyoungprofessionals.com/wp-content/uploads/2025/11/11.png
END:VEVENT
BEGIN:VEVENT
DTSTART;TZID=America/Chicago:20261021T173000
DTEND;TZID=America/Chicago:20261021T183000
DTSTAMP:20260420T030133
CREATED:20251119T224209Z
LAST-MODIFIED:20251119T224822Z
UID:2057-1792603800-1792607400@barabooyoungprofessionals.com
SUMMARY:BYP October Monthly Meeting
DESCRIPTION:To Be Determined
URL:https://barabooyoungprofessionals.com/event/byp-october-monthly-meeting-2/
LOCATION:To Be Determined
CATEGORIES:BYP Monthly Meeting
ATTACH;FMTTYPE=image/png:https://barabooyoungprofessionals.com/wp-content/uploads/2025/11/12.png
END:VEVENT
BEGIN:VEVENT
DTSTART;TZID=America/Chicago:20261118T173000
DTEND;TZID=America/Chicago:20261118T183000
DTSTAMP:20260420T030133
CREATED:20251119T224209Z
LAST-MODIFIED:20251119T224849Z
UID:2058-1795023000-1795026600@barabooyoungprofessionals.com
SUMMARY:BYP Novemeber Monthly Meeting
DESCRIPTION:To Be Determined
URL:https://barabooyoungprofessionals.com/event/byp-novemeber-monthly-meeting-2/
LOCATION:To Be Determined
CATEGORIES:BYP Monthly Meeting
ATTACH;FMTTYPE=image/png:https://barabooyoungprofessionals.com/wp-content/uploads/2025/11/13.png
END:VEVENT
BEGIN:VEVENT
DTSTART;TZID=America/Chicago:20261216T173000
DTEND;TZID=America/Chicago:20261216T183000
DTSTAMP:20260420T030133
CREATED:20251119T224212Z
LAST-MODIFIED:20251119T224916Z
UID:2059-1797442200-1797445800@barabooyoungprofessionals.com
SUMMARY:BYP Decemeber Monthly Meeting
DESCRIPTION:To Be Determined
URL:https://barabooyoungprofessionals.com/event/byp-decemeber-monthly-meeting-2/
LOCATION:To Be Determined
CATEGORIES:BYP Monthly Meeting
ATTACH;FMTTYPE=image/png:https://barabooyoungprofessionals.com/wp-content/uploads/2025/11/14.png
END:VEVENT
END:VCALENDAR