BEGIN:VCALENDAR
VERSION:2.0
PRODID:-//Baraboo Young Professionals - ECPv6.15.20//NONSGML v1.0//EN
CALSCALE:GREGORIAN
METHOD:PUBLISH
X-ORIGINAL-URL:https://barabooyoungprofessionals.com
X-WR-CALDESC:Events for Baraboo Young Professionals
REFRESH-INTERVAL;VALUE=DURATION:PT1H
X-Robots-Tag:noindex
X-PUBLISHED-TTL:PT1H
BEGIN:VTIMEZONE
TZID:America/Chicago
BEGIN:DAYLIGHT
TZOFFSETFROM:-0600
TZOFFSETTO:-0500
TZNAME:CDT
DTSTART:20240310T080000
END:DAYLIGHT
BEGIN:STANDARD
TZOFFSETFROM:-0500
TZOFFSETTO:-0600
TZNAME:CST
DTSTART:20241103T070000
END:STANDARD
BEGIN:DAYLIGHT
TZOFFSETFROM:-0600
TZOFFSETTO:-0500
TZNAME:CDT
DTSTART:20250309T080000
END:DAYLIGHT
BEGIN:STANDARD
TZOFFSETFROM:-0500
TZOFFSETTO:-0600
TZNAME:CST
DTSTART:20251102T070000
END:STANDARD
BEGIN:DAYLIGHT
TZOFFSETFROM:-0600
TZOFFSETTO:-0500
TZNAME:CDT
DTSTART:20260308T080000
END:DAYLIGHT
BEGIN:STANDARD
TZOFFSETFROM:-0500
TZOFFSETTO:-0600
TZNAME:CST
DTSTART:20261101T070000
END:STANDARD
BEGIN:DAYLIGHT
TZOFFSETFROM:-0600
TZOFFSETTO:-0500
TZNAME:CDT
DTSTART:20270314T080000
END:DAYLIGHT
BEGIN:STANDARD
TZOFFSETFROM:-0500
TZOFFSETTO:-0600
TZNAME:CST
DTSTART:20271107T070000
END:STANDARD
END:VTIMEZONE
BEGIN:VEVENT
DTSTART;TZID=America/Chicago:20260415T173000
DTEND;TZID=America/Chicago:20260415T183000
DTSTAMP:20260419T121934
CREATED:20251119T224203Z
LAST-MODIFIED:20260414T125550Z
UID:2051-1776274200-1776277800@barabooyoungprofessionals.com
SUMMARY:BYP April Monthly Meeting
DESCRIPTION:Join Baraboo Young Professionals (BYP) for a unique and flavorful evening at Emma’s Mexican Market!\nDuring this event\, we’ll get an inside look at this authentic local delicacy and learning more about their restaurant\, market\, and the story behind their delicious offerings right here in Baraboo. Plus\, attendees will have the opportunity to sample some of their dishes and experience the flavors firsthand!\n Date: April 15\, 2026 Time: 5:30 PM – 6:30 PM Location: Emma’s Mexican Market 507 South Blvd.\, Baraboo\, WI\nThis is a great opportunity to support a local business\, connect with other young professionals\, and enjoy a fun and engaging cultural experience. Come hungry and ready to learn!\n Baraboo Young Professionals meets every third Wednesday of the month. Be sure to check our Facebook page or website for meeting locations and updates!
URL:https://barabooyoungprofessionals.com/event/byp-april-monthly-meeting-2/
LOCATION:Emma’s Mexican Market\, 507 South Blvd\, Baraboo\, WI\, 53913\, United States
CATEGORIES:BYP Monthly Meeting
ATTACH;FMTTYPE=image/jpeg:https://barabooyoungprofessionals.com/wp-content/uploads/2025/11/660749414_1355709809925852_3084440900768384412_n.jpg
END:VEVENT
BEGIN:VEVENT
DTSTART;TZID=America/Chicago:20260318T173000
DTEND;TZID=America/Chicago:20260318T183000
DTSTAMP:20260419T121934
CREATED:20251119T224202Z
LAST-MODIFIED:20260219T200920Z
UID:2050-1773855000-1773858600@barabooyoungprofessionals.com
SUMMARY:BYP March Monthly Meeting
DESCRIPTION:Join Baraboo Young Professionals (BYP) for a fun and interactive evening at Fairfield Hills Golf Course as we take on their golf simulators! \nWhether you’re a seasoned golfer or have never picked up a club\, this event is all about networking\, trying something new\, and having a great time with fellow young professionals in a relaxed setting. No experience required! Just bring your competitive spirit (or come just for the laughs 😉). \n📅 Date: March 18\, 2026\n⏰ Time: 5:30 PM – 6:30 PM\n📍 Location: Fairfield Hills Golf Course \n👉 Baraboo Young Professionals meets every third Wednesday of the month. Be sure to check our Facebook page or website for meeting locations and updates!
URL:https://barabooyoungprofessionals.com/event/byp-march-monthly-meeting-2/
LOCATION:Fairfield Hills Golf Course & Range\, S3308 Fox Hill Rd\, Baraboo\, WI\, 53913\, United States
CATEGORIES:BYP Monthly Meeting
ATTACH;FMTTYPE=image/png:https://barabooyoungprofessionals.com/wp-content/uploads/2025/11/4-1.png
END:VEVENT
BEGIN:VEVENT
DTSTART;TZID=America/Chicago:20260218T173000
DTEND;TZID=America/Chicago:20260218T183000
DTSTAMP:20260419T121934
CREATED:20251119T224202Z
LAST-MODIFIED:20260202T205332Z
UID:2049-1771435800-1771439400@barabooyoungprofessionals.com
SUMMARY:BYP February Monthly Meeting
DESCRIPTION:Join Baraboo Young Professionals for our February Monthly Meeting on Wednesday\, February 18 at Wiscocktail! \nThis month\, we’re excited to spotlight Wiscocktail and learn more about their business. Enjoy a hands-on cocktail and mocktail demonstration\, where you’ll learn tips\, techniques\, and creative ideas you can try at home. \nWhether you’re looking to network\, learn something new\, or just enjoy a fun evening with fellow young professionals\, this meeting is for you! \nDate: February 18\, 2026\nTime: 5:30 PM to 6:30 PM\nLocation: Wiscocktail\nAddress: 132 3rd St\, Baraboo\, WI 53913 \nBaraboo Young Professionals meets every third Wednesday of the month. Be sure to check our Facebook page or website for meeting locations and updates!
URL:https://barabooyoungprofessionals.com/event/byp-february-monthly-meeting-2/
LOCATION:Wiscocktail\, 132 3rd Street\, Baraboo\, WI\, 53913\, United States
CATEGORIES:BYP Monthly Meeting
ATTACH;FMTTYPE=image/png:https://barabooyoungprofessionals.com/wp-content/uploads/2025/11/BYP-MEETING-HEROS-1.png
END:VEVENT
BEGIN:VEVENT
DTSTART;TZID=America/Chicago:20260106T180000
DTEND;TZID=America/Chicago:20260106T200000
DTSTAMP:20260419T121934
CREATED:20250125T022239Z
LAST-MODIFIED:20251204T215609Z
UID:1388-1767722400-1767729600@barabooyoungprofessionals.com
SUMMARY:BYP Holiday Party
DESCRIPTION:Join us at Gina Jenny’s on January 6th from 6 PM to 8 PM for a night excitement! We’re toasting to an amazing 2025 and spilling the tea on what’s coming in 2026. 🎉✨ \nSip on a complimentary drink (thanks to BYP 🍸) and indulge in mouthwatering appitizers. It’s the perfect recipe for a night full of laughter & good vibes 😉 Don’t miss out—come raise a glass with us 🍾🥂 \nPlease RSVP by January 5th.\nRSVP Here! \n* Note: This Party is for paid members\, future 2026 paid members\, event sponsors\, event hosts\, and donation recipients.
URL:https://barabooyoungprofessionals.com/event/byp-decemeber-monthly-meeting/
LOCATION:Gina Jenny’s Wine and Full Bar\, 126 3rd St.\, Baraboo\, WI\, 53913
CATEGORIES:BYP Monthly Meeting
ATTACH;FMTTYPE=image/png:https://barabooyoungprofessionals.com/wp-content/uploads/2025/01/BYP-MEETING-HEROS.png
END:VEVENT
BEGIN:VEVENT
DTSTART;TZID=America/Chicago:20251218T173000
DTEND;TZID=America/Chicago:20251218T183000
DTSTAMP:20260419T121934
CREATED:20251104T002626Z
LAST-MODIFIED:20251218T160128Z
UID:2000-1766079000-1766082600@barabooyoungprofessionals.com
SUMMARY:BYP December Monthly Meeting
DESCRIPTION:Join us on December 18th at 5:30 pm at Wiscocktail in Baraboo for our next Baraboo Young Professionals member event! The Wiscocktail team will give us an inside look at their craft of creating specialty drinks and will demo a festive holiday cocktail and mocktail. Come enjoy a fun and relaxed evening of networking\, connect with other young professionals\, and hear about upcoming BYP events and ways to get involved. New members are always welcome! Grab a friend and join the fun!
URL:https://barabooyoungprofessionals.com/event/byp-december-monthly-meeting/
LOCATION:Wiscocktail\, 132 3rd Street\, Baraboo\, WI\, 53913\, United States
CATEGORIES:BYP Monthly Meeting
ATTACH;FMTTYPE=image/png:https://barabooyoungprofessionals.com/wp-content/uploads/2025/11/BYP-MEETING-HEROS.png
END:VEVENT
BEGIN:VEVENT
DTSTART;TZID=America/Chicago:20251120T173000
DTEND;TZID=America/Chicago:20251120T183000
DTSTAMP:20260419T121934
CREATED:20250125T022239Z
LAST-MODIFIED:20251107T230748Z
UID:1387-1763659800-1763663400@barabooyoungprofessionals.com
SUMMARY:BYP November Monthly Meeting
DESCRIPTION:Join us on November 20th at 5:30 pm at Ski-Hi Fruit Farm for a fun evening of networking and community! During Apples & Alcohol\, the Ski-Hi team will share an inside look at their business in the apple and wine industry\, including how they grow\, produce\, and serve some of Baraboo’s favorite local flavors. We’ll share updates on upcoming BYP events and ways to get involved. New members are welcome! Bring a friend and see what BYP is all about!
URL:https://barabooyoungprofessionals.com/event/byp-novemeber-monthly-meeting/
LOCATION:Ski-Hi\, E11219A Ski Hi Rd Ste A\, Baraboo\, WI\, 53913\, United States
CATEGORIES:BYP Monthly Meeting
ATTACH;FMTTYPE=image/png:https://barabooyoungprofessionals.com/wp-content/uploads/2025/01/56E32414-F467-406F-A548-757457A3DE68.png
END:VEVENT
BEGIN:VEVENT
DTSTART;TZID=America/Chicago:20251016T173000
DTEND;TZID=America/Chicago:20251016T183000
DTSTAMP:20260419T121934
CREATED:20250125T022239Z
LAST-MODIFIED:20250926T155544Z
UID:1386-1760635800-1760639400@barabooyoungprofessionals.com
SUMMARY:BYP October Monthly Meeting
DESCRIPTION:Join us on October 16th at 5:30pm for an event at Proper Thread\, where we will get an inside look at the art of screen printing in the clothing business. During this event\, we’ll tour the Proper Thread facility and learn about the process behind creating custom apparel\, from design to print. Learn about our upcoming events and how you can get involved! New members are welcome to attend! Bring a friend and learn more about BYP!
URL:https://barabooyoungprofessionals.com/event/byp-october-monthly-meeting/
LOCATION:Proper Thread\, 451 South Blvd\, Baraboo\, WI\, 53913\, United States
CATEGORIES:BYP Monthly Meeting
ATTACH;FMTTYPE=image/png:https://barabooyoungprofessionals.com/wp-content/uploads/2025/01/8E31D6AB-40FF-4D45-A58E-744748B8FA62.png
END:VEVENT
BEGIN:VEVENT
DTSTART;TZID=America/Chicago:20250918T173000
DTEND;TZID=America/Chicago:20250918T183000
DTSTAMP:20260419T121934
CREATED:20250125T022236Z
LAST-MODIFIED:20250914T194400Z
UID:1380-1758216600-1758220200@barabooyoungprofessionals.com
SUMMARY:BYP September Monthly Meeting
DESCRIPTION:Please join us for our September member meeting outside on the square. This meeting will be more operational for the Night Market happening Friday Sept 19. We are still looking for helping hands for Night Market set up in Friday early afternoon. Bring a friend\, we hope to see some new and familiar faces!
URL:https://barabooyoungprofessionals.com/event/byp-september-monthly-meeting/
LOCATION:Downtown Baraboo\, 553 Oak St\, Baraboo\, WI\, 53913\, United States
CATEGORIES:BYP Monthly Meeting
ATTACH;FMTTYPE=image/jpeg:https://barabooyoungprofessionals.com/wp-content/uploads/2025/01/547012096_1191145609715607_7987617754678861607_n.jpg
END:VEVENT
BEGIN:VEVENT
DTSTART;TZID=America/Chicago:20250821T173000
DTEND;TZID=America/Chicago:20250821T183000
DTSTAMP:20260419T121934
CREATED:20250125T022236Z
LAST-MODIFIED:20250820T223315Z
UID:1379-1755797400-1755801000@barabooyoungprofessionals.com
SUMMARY:BYP August Monthly Meeting
DESCRIPTION:Join the Baraboo young professionals on Thursday\, August 21\, from 5:30 pm to 6:30 pm as we throw axes with our friends at Baraboo Axe Lounge and talk about upcoming events in Baraboo.
URL:https://barabooyoungprofessionals.com/event/byp-august-monthly-meeting/
LOCATION:Baraboo Axe Lounge\, 713 Broadway St\, Baraboo\, WI\, 53913\, United States
CATEGORIES:BYP Monthly Meeting
ATTACH;FMTTYPE=image/jpeg:https://barabooyoungprofessionals.com/wp-content/uploads/2025/01/532073201_795120093059162_5212795117758281701_n.jpg
END:VEVENT
BEGIN:VEVENT
DTSTART;TZID=America/Chicago:20250717T173000
DTEND;TZID=America/Chicago:20250717T183000
DTSTAMP:20260419T121934
CREATED:20250125T022236Z
LAST-MODIFIED:20250711T181529Z
UID:1378-1752773400-1752777000@barabooyoungprofessionals.com
SUMMARY:BYP July Monthly Meeting
DESCRIPTION:Join us on July 17th at 5:30 pm for an engaging and educational event at the Sauk County Historical Society! This is a great opportunity for young professionals to explore the rich history of our community while networking with like-minded individuals. The event will include a behind-the-scenes tour of the museum\, highlighting key exhibits and fascinating local stories. Learn about our upcoming events and how you can get involved! New members are welcome to attend! Bring a friend and learn more about BYP!
URL:https://barabooyoungprofessionals.com/event/byp-july-monthly-meeting/
LOCATION:Sauk County Historical Society\, 900 2nd Ave\, Baraboo\, WI\, 53913\, United States
CATEGORIES:BYP Monthly Meeting
ATTACH;FMTTYPE=image/png:https://barabooyoungprofessionals.com/wp-content/uploads/2025/01/unnamed.png
END:VEVENT
BEGIN:VEVENT
DTSTART;TZID=America/Chicago:20250619T173000
DTEND;TZID=America/Chicago:20250619T183000
DTSTAMP:20260419T121934
CREATED:20250125T022236Z
LAST-MODIFIED:20250616T144840Z
UID:1377-1750354200-1750357800@barabooyoungprofessionals.com
SUMMARY:BYP June Monthly Meeting
DESCRIPTION:Join the Baraboo Young Professionals on June 19th at 5:30 pm for the June meeting. We will head outdoors for a special behind-the-scenes tour of Skillet Creek Campground! \nWe’ll get an exclusive look at the campground and hear from owner LeAnn\, who will share her journey of growing and running a successful outdoor hospitality business right here in the Baraboo area. \nWhether you’re into entrepreneurship\, camping\, or just enjoy good company in a beautiful setting\, this is a meeting you won’t want to miss! \nThis meeting is open to all current and prospective members. Casual attire encouraged – we’ll be walking around the grounds. \nCome get inspired\, connect with other young professionals\, and learn more about a unique local business making waves in our community.
URL:https://barabooyoungprofessionals.com/event/byp-june-monthly-meeting/
LOCATION:Skillet Creek Campground\, E11329 State Road 136\, Baraboo\, WI\, 53913\, United States
CATEGORIES:BYP Monthly Meeting
ATTACH;FMTTYPE=image/png:https://barabooyoungprofessionals.com/wp-content/uploads/2025/01/04055BEC-49E7-405C-AE6F-1F5377966D63.png
END:VEVENT
BEGIN:VEVENT
DTSTART;TZID=America/Chicago:20250515T173000
DTEND;TZID=America/Chicago:20250515T183000
DTSTAMP:20260419T121934
CREATED:20250125T022236Z
LAST-MODIFIED:20250508T185657Z
UID:1376-1747330200-1747333800@barabooyoungprofessionals.com
SUMMARY:BYP May Monthly Meeting
DESCRIPTION:Join the Baraboo Young Professionals on Thursday May 23 at 5:30 PM at Balanced Rock Winery for our May meeting. Enjoy snacks\, refreshments\, and good company! We will be discussing upcoming events and ways to get involved. New members welcome to attend.
URL:https://barabooyoungprofessionals.com/event/byp-may-monthly-meeting/
LOCATION:Balanced Rock Winery\, 1065 Walnut St\, Baraboo\, WI\, 53913\, United States
CATEGORIES:BYP Monthly Meeting
ATTACH;FMTTYPE=image/jpeg:https://barabooyoungprofessionals.com/wp-content/uploads/2025/01/494815541_1374509973865137_7675227845168511446_n.jpg
END:VEVENT
BEGIN:VEVENT
DTSTART;TZID=America/Chicago:20250417T173000
DTEND;TZID=America/Chicago:20250417T183000
DTSTAMP:20260419T121934
CREATED:20250125T022232Z
LAST-MODIFIED:20250410T023919Z
UID:1374-1744911000-1744914600@barabooyoungprofessionals.com
SUMMARY:BYP April Monthly Meeting
DESCRIPTION:Join us on Thursday\, April 17th\, at 5:30 pm at the Redlin-Ertz Funeral Home for a unique opportunity to tour a local funeral home and learn about planning for death. Don’t miss this rare behind-the-scenes experience and meaningful conversation. New members are welcome\, and feel free to bring a friend who might be interested in joining! We will also discuss upcoming events and volunteering opportunities!
URL:https://barabooyoungprofessionals.com/event/byp-april-monthly-meeting/
LOCATION:Redlin-Ertz Funeral Home\, 401 Madison Ave\, Baraboo\, WI\, 53913\, United States
CATEGORIES:BYP Monthly Meeting
ATTACH;FMTTYPE=image/jpeg:https://barabooyoungprofessionals.com/wp-content/uploads/2025/01/489619943_695792910107106_6155571527147299084_n.jpg
END:VEVENT
BEGIN:VEVENT
DTSTART;TZID=America/Chicago:20250320T173000
DTEND;TZID=America/Chicago:20250320T183000
DTSTAMP:20260419T121934
CREATED:20250125T022232Z
LAST-MODIFIED:20250312T230601Z
UID:1373-1742491800-1742495400@barabooyoungprofessionals.com
SUMMARY:BYP March Monthly Meeting
DESCRIPTION:Join us at at Nautical Coffee for our March Monthly meeting\, where we’ll be diving into\n* Upcoming Events and Volunteer Opportunities\n* Putt Putt Pub Crawl\n* Food Truck Rally\nWe will have a special guest speaker! Bob Koenig\, Master Cheese maker at Carr Valley Cheese. (There will be samples!)
URL:https://barabooyoungprofessionals.com/event/byp-march-monthly-meeting/
LOCATION:Nautical Coffee\, 108 3rd St\, Baraboo\, WI\, 53913\, United States
CATEGORIES:BYP Monthly Meeting
ATTACH;FMTTYPE=image/jpeg:https://barabooyoungprofessionals.com/wp-content/uploads/2025/01/483487795_1044795087683994_7587768110826547620_n.jpg
END:VEVENT
BEGIN:VEVENT
DTSTART;TZID=America/Chicago:20250220T173000
DTEND;TZID=America/Chicago:20250220T183000
DTSTAMP:20260419T121934
CREATED:20250125T022232Z
LAST-MODIFIED:20250312T230642Z
UID:1372-1740072600-1740076200@barabooyoungprofessionals.com
SUMMARY:BYP February Monthly Meeting
DESCRIPTION:Join us for our monthly Baraboo Young Professionals meeting at third Street nutrition on February 20 at 5:30 PM. This month will learn all about nutrition and the services third Street nutrition has to offer to support a healthy lifestyle.
URL:https://barabooyoungprofessionals.com/event/byp-february-monthly-meeting/
LOCATION:3rd Street Nutrition\, 112 3rd St\, Baraboo\, WI\, 53913\, United States
CATEGORIES:BYP Monthly Meeting
ATTACH;FMTTYPE=image/jpeg:https://barabooyoungprofessionals.com/wp-content/uploads/2025/01/479747973_1025839029579600_2914705202859186520_n.jpg
END:VEVENT
BEGIN:VEVENT
DTSTART;TZID=America/Chicago:20250130T173000
DTEND;TZID=America/Chicago:20250130T183000
DTSTAMP:20260419T121934
CREATED:20250125T022232Z
LAST-MODIFIED:20250312T230650Z
UID:1371-1738258200-1738261800@barabooyoungprofessionals.com
SUMMARY:BYP January Monthly Meeting
DESCRIPTION:Come meet the old and NEW board members at our first member’s meeting of 2025! We will recap 2024\, and talk about what’s in store for 2025. Snacks provided!
URL:https://barabooyoungprofessionals.com/event/byp-january-monthly-meeting/
LOCATION:Johnson Insurance\, 402 Broadway St.\, Baraboo\, WI\, 53913\, United States
CATEGORIES:BYP Monthly Meeting
ATTACH;FMTTYPE=image/jpeg:https://barabooyoungprofessionals.com/wp-content/uploads/2025/01/474436303_1007740508056119_8252620084209472840_n.jpg
END:VEVENT
END:VCALENDAR