BEGIN:VCALENDAR
VERSION:2.0
PRODID:-//Baraboo Young Professionals - ECPv6.15.20//NONSGML v1.0//EN
CALSCALE:GREGORIAN
METHOD:PUBLISH
X-ORIGINAL-URL:https://barabooyoungprofessionals.com
X-WR-CALDESC:Events for Baraboo Young Professionals
REFRESH-INTERVAL;VALUE=DURATION:PT1H
X-Robots-Tag:noindex
X-PUBLISHED-TTL:PT1H
BEGIN:VTIMEZONE
TZID:America/Chicago
BEGIN:DAYLIGHT
TZOFFSETFROM:-0600
TZOFFSETTO:-0500
TZNAME:CDT
DTSTART:20250309T080000
END:DAYLIGHT
BEGIN:STANDARD
TZOFFSETFROM:-0500
TZOFFSETTO:-0600
TZNAME:CST
DTSTART:20251102T070000
END:STANDARD
BEGIN:DAYLIGHT
TZOFFSETFROM:-0600
TZOFFSETTO:-0500
TZNAME:CDT
DTSTART:20260308T080000
END:DAYLIGHT
BEGIN:STANDARD
TZOFFSETFROM:-0500
TZOFFSETTO:-0600
TZNAME:CST
DTSTART:20261101T070000
END:STANDARD
BEGIN:DAYLIGHT
TZOFFSETFROM:-0600
TZOFFSETTO:-0500
TZNAME:CDT
DTSTART:20270314T080000
END:DAYLIGHT
BEGIN:STANDARD
TZOFFSETFROM:-0500
TZOFFSETTO:-0600
TZNAME:CST
DTSTART:20271107T070000
END:STANDARD
END:VTIMEZONE
BEGIN:VEVENT
DTSTART;TZID=America/Chicago:20260106T180000
DTEND;TZID=America/Chicago:20260106T200000
DTSTAMP:20260419T154913
CREATED:20250125T022239Z
LAST-MODIFIED:20251204T215609Z
UID:1388-1767722400-1767729600@barabooyoungprofessionals.com
SUMMARY:BYP Holiday Party
DESCRIPTION:Join us at Gina Jenny’s on January 6th from 6 PM to 8 PM for a night excitement! We’re toasting to an amazing 2025 and spilling the tea on what’s coming in 2026. 🎉✨ \nSip on a complimentary drink (thanks to BYP 🍸) and indulge in mouthwatering appitizers. It’s the perfect recipe for a night full of laughter & good vibes 😉 Don’t miss out—come raise a glass with us 🍾🥂 \nPlease RSVP by January 5th.\nRSVP Here! \n* Note: This Party is for paid members\, future 2026 paid members\, event sponsors\, event hosts\, and donation recipients.
URL:https://barabooyoungprofessionals.com/event/byp-decemeber-monthly-meeting/
LOCATION:Gina Jenny’s Wine and Full Bar\, 126 3rd St.\, Baraboo\, WI\, 53913
CATEGORIES:BYP Monthly Meeting
ATTACH;FMTTYPE=image/png:https://barabooyoungprofessionals.com/wp-content/uploads/2025/01/BYP-MEETING-HEROS.png
END:VEVENT
END:VCALENDAR