BEGIN:VCALENDAR
VERSION:2.0
PRODID:-//Baraboo Young Professionals - ECPv6.15.20//NONSGML v1.0//EN
CALSCALE:GREGORIAN
METHOD:PUBLISH
X-ORIGINAL-URL:https://barabooyoungprofessionals.com
X-WR-CALDESC:Events for Baraboo Young Professionals
REFRESH-INTERVAL;VALUE=DURATION:PT1H
X-Robots-Tag:noindex
X-PUBLISHED-TTL:PT1H
BEGIN:VTIMEZONE
TZID:America/Chicago
BEGIN:DAYLIGHT
TZOFFSETFROM:-0600
TZOFFSETTO:-0500
TZNAME:CDT
DTSTART:20240310T080000
END:DAYLIGHT
BEGIN:STANDARD
TZOFFSETFROM:-0500
TZOFFSETTO:-0600
TZNAME:CST
DTSTART:20241103T070000
END:STANDARD
BEGIN:DAYLIGHT
TZOFFSETFROM:-0600
TZOFFSETTO:-0500
TZNAME:CDT
DTSTART:20250309T080000
END:DAYLIGHT
BEGIN:STANDARD
TZOFFSETFROM:-0500
TZOFFSETTO:-0600
TZNAME:CST
DTSTART:20251102T070000
END:STANDARD
BEGIN:DAYLIGHT
TZOFFSETFROM:-0600
TZOFFSETTO:-0500
TZNAME:CDT
DTSTART:20260308T080000
END:DAYLIGHT
BEGIN:STANDARD
TZOFFSETFROM:-0500
TZOFFSETTO:-0600
TZNAME:CST
DTSTART:20261101T070000
END:STANDARD
END:VTIMEZONE
BEGIN:VEVENT
DTSTART;TZID=America/Chicago:20250515T173000
DTEND;TZID=America/Chicago:20250515T183000
DTSTAMP:20260422T032839
CREATED:20250125T022236Z
LAST-MODIFIED:20250508T185657Z
UID:1376-1747330200-1747333800@barabooyoungprofessionals.com
SUMMARY:BYP May Monthly Meeting
DESCRIPTION:Join the Baraboo Young Professionals on Thursday May 23 at 5:30 PM at Balanced Rock Winery for our May meeting. Enjoy snacks\, refreshments\, and good company! We will be discussing upcoming events and ways to get involved. New members welcome to attend.
URL:https://barabooyoungprofessionals.com/event/byp-may-monthly-meeting/
LOCATION:Balanced Rock Winery\, 1065 Walnut St\, Baraboo\, WI\, 53913\, United States
CATEGORIES:BYP Monthly Meeting
ATTACH;FMTTYPE=image/jpeg:https://barabooyoungprofessionals.com/wp-content/uploads/2025/01/494815541_1374509973865137_7675227845168511446_n.jpg
END:VEVENT
END:VCALENDAR