BEGIN:VCALENDAR
VERSION:2.0
PRODID:-//Baraboo Young Professionals - ECPv6.15.20//NONSGML v1.0//EN
CALSCALE:GREGORIAN
METHOD:PUBLISH
X-ORIGINAL-URL:https://barabooyoungprofessionals.com
X-WR-CALDESC:Events for Baraboo Young Professionals
REFRESH-INTERVAL;VALUE=DURATION:PT1H
X-Robots-Tag:noindex
X-PUBLISHED-TTL:PT1H
BEGIN:VTIMEZONE
TZID:America/Chicago
BEGIN:DAYLIGHT
TZOFFSETFROM:-0600
TZOFFSETTO:-0500
TZNAME:CDT
DTSTART:20240310T080000
END:DAYLIGHT
BEGIN:STANDARD
TZOFFSETFROM:-0500
TZOFFSETTO:-0600
TZNAME:CST
DTSTART:20241103T070000
END:STANDARD
BEGIN:DAYLIGHT
TZOFFSETFROM:-0600
TZOFFSETTO:-0500
TZNAME:CDT
DTSTART:20250309T080000
END:DAYLIGHT
BEGIN:STANDARD
TZOFFSETFROM:-0500
TZOFFSETTO:-0600
TZNAME:CST
DTSTART:20251102T070000
END:STANDARD
BEGIN:DAYLIGHT
TZOFFSETFROM:-0600
TZOFFSETTO:-0500
TZNAME:CDT
DTSTART:20260308T080000
END:DAYLIGHT
BEGIN:STANDARD
TZOFFSETFROM:-0500
TZOFFSETTO:-0600
TZNAME:CST
DTSTART:20261101T070000
END:STANDARD
END:VTIMEZONE
BEGIN:VEVENT
DTSTART;TZID=America/Chicago:20250417T173000
DTEND;TZID=America/Chicago:20250417T183000
DTSTAMP:20260422T045124
CREATED:20250125T022232Z
LAST-MODIFIED:20250410T023919Z
UID:1374-1744911000-1744914600@barabooyoungprofessionals.com
SUMMARY:BYP April Monthly Meeting
DESCRIPTION:Join us on Thursday\, April 17th\, at 5:30 pm at the Redlin-Ertz Funeral Home for a unique opportunity to tour a local funeral home and learn about planning for death. Don’t miss this rare behind-the-scenes experience and meaningful conversation. New members are welcome\, and feel free to bring a friend who might be interested in joining! We will also discuss upcoming events and volunteering opportunities!
URL:https://barabooyoungprofessionals.com/event/byp-april-monthly-meeting/
LOCATION:Redlin-Ertz Funeral Home\, 401 Madison Ave\, Baraboo\, WI\, 53913\, United States
CATEGORIES:BYP Monthly Meeting
ATTACH;FMTTYPE=image/jpeg:https://barabooyoungprofessionals.com/wp-content/uploads/2025/01/489619943_695792910107106_6155571527147299084_n.jpg
END:VEVENT
END:VCALENDAR